BEGIN:VCALENDAR
VERSION:2.0
PRODID:-//ZContent.net//ZapCalLib 1.0//EN
CALSCALE:GREGORIAN
METHOD:PUBLISH
BEGIN:VEVENT
SUMMARY:Rozpoczęcie Konferencji<br />\n<br />\n<em><sub>prof. dr hab. n. m
 ed. Bolesław Rutkowski (Gdańsk), prof. dr hab. n. med. Alicja Dębska-Ś
 lizień (Gdańsk) </sub></em>
DTSTART:20260109T150000
DTEND:20260109T161500
UID:Rozpoczęcie Konferencji<br />\n<br />\n<em><sub>prof. dr hab. n. med. 
 Bolesław Rutkowski (Gdańsk), prof. dr hab. n. med. Alicja Dębska-Ślizi
 eń (Gdańsk) </sub></em>55475_1776722314
DTSTAMP:20260420T215834
Description:
END:VEVENT
END:VCALENDAR
