BEGIN:VCALENDAR
VERSION:2.0
PRODID:-//ZContent.net//ZapCalLib 1.0//EN
CALSCALE:GREGORIAN
METHOD:PUBLISH
BEGIN:VEVENT
SUMMARY:Sesja I. Fizjologiczne i patofizjologiczne podstawy chorób nerek<b
 r />\n<br />\n<em><sub>Przewodniczący: prof. dr hab. n. med. Ewa Król (G
 dańsk), dr hab. n. med.</sub></em> <sub><em>Barbara Bułło-Piontecka (Gd
 ańsk), prof. dr hab. n. med. Michał Chmielewski (Gdańsk)</em></sub>
DTSTART:20260109T151500
DTEND:20260109T175000
UID:Sesja I. Fizjologiczne i patofizjologiczne podstawy chorób nerek<br />
 \n<br />\n<em><sub>Przewodniczący: prof. dr hab. n. med. Ewa Król (Gdań
 sk), dr hab. n. med.</sub></em> <sub><em>Barbara Bułło-Piontecka (Gdańs
 k), prof. dr hab. n. med. Michał Chmielewski (Gdańsk)</em></sub>55476_17
 76722387
DTSTAMP:20260420T215947
Description:
END:VEVENT
END:VCALENDAR
