BEGIN:VCALENDAR
VERSION:2.0
PRODID:-//ZContent.net//ZapCalLib 1.0//EN
CALSCALE:GREGORIAN
METHOD:PUBLISH
BEGIN:VEVENT
SUMMARY:Sesja III. PostÄ™py w dializoterapii<br />\n<br />\n<em><sub>Przewo
 dniczÄ…cy: prof. dr hab. n. med. MonikaÂ Lichodziejewska-NiemierkoÂ (GdaÅ„
 sk)Â </sub></em><br />\n<em><sub>prof. dr hab. n. med. Marcin Renke (GdaÅ„
 sk), prof. CMKP dr hab. n. med. Janusz Ostrowski (Warszawa)Â </sub></em><e
 m> </em>
DTSTART:20260110T080000
DTEND:20260110T103000
UID:Sesja III. PostÄ™py w dializoterapii<br />\n<br />\n<em><sub>Przewodnic
 zÄ…cy: prof. dr hab. n. med. MonikaÂ Lichodziejewska-NiemierkoÂ (GdaÅ„sk)Â
  </sub></em><br />\n<em><sub>prof. dr hab. n. med. Marcin Renke (GdaÅ„sk),
  prof. CMKP dr hab. n. med. Janusz Ostrowski (Warszawa)Â </sub></em><em> <
 /em>55489_1776954492
DTSTAMP:20260423T142812
Description:
END:VEVENT
END:VCALENDAR
