BEGIN:VCALENDAR
VERSION:2.0
PRODID:-//ZContent.net//ZapCalLib 1.0//EN
CALSCALE:GREGORIAN
METHOD:PUBLISH
BEGIN:VEVENT
SUMMARY:Dyskusja
DTSTART:20260110T110500
DTEND:20260110T121500
UID:Dyskusja57077_1776721855
DTSTAMP:20260420T215055
Description:
END:VEVENT
END:VCALENDAR
